BEGIN:VCALENDAR
VERSION:2.0
PRODID:-//Gemeinde Bettenfeld / Eifel - ECPv6.15.20//NONSGML v1.0//EN
CALSCALE:GREGORIAN
METHOD:PUBLISH
X-WR-CALNAME:Gemeinde Bettenfeld / Eifel
X-ORIGINAL-URL:https://bettenfeld.de
X-WR-CALDESC:Veranstaltungen für Gemeinde Bettenfeld / Eifel
REFRESH-INTERVAL;VALUE=DURATION:PT1H
X-Robots-Tag:noindex
X-PUBLISHED-TTL:PT1H
BEGIN:VTIMEZONE
TZID:Europe/Berlin
BEGIN:DAYLIGHT
TZOFFSETFROM:+0100
TZOFFSETTO:+0200
TZNAME:CEST
DTSTART:20250330T010000
END:DAYLIGHT
BEGIN:STANDARD
TZOFFSETFROM:+0200
TZOFFSETTO:+0100
TZNAME:CET
DTSTART:20251026T010000
END:STANDARD
BEGIN:DAYLIGHT
TZOFFSETFROM:+0100
TZOFFSETTO:+0200
TZNAME:CEST
DTSTART:20260329T010000
END:DAYLIGHT
BEGIN:STANDARD
TZOFFSETFROM:+0200
TZOFFSETTO:+0100
TZNAME:CET
DTSTART:20261025T010000
END:STANDARD
BEGIN:DAYLIGHT
TZOFFSETFROM:+0100
TZOFFSETTO:+0200
TZNAME:CEST
DTSTART:20270328T010000
END:DAYLIGHT
BEGIN:STANDARD
TZOFFSETFROM:+0200
TZOFFSETTO:+0100
TZNAME:CET
DTSTART:20271031T010000
END:STANDARD
END:VTIMEZONE
BEGIN:VEVENT
DTSTART;TZID=Europe/Berlin:20260425T000000
DTEND;TZID=Europe/Berlin:20260425T235959
DTSTAMP:20260420T035609
CREATED:20260413T115625Z
LAST-MODIFIED:20260413T115628Z
UID:2115-1777075200-1777161599@bettenfeld.de
SUMMARY:Dreck-Weg-Tag in Bettenfeld – mach mit!
DESCRIPTION:Es geht wieder los: Wir machen Klarschiff rund um unser Dorf. Komm vorbei und helf mit! Am 25. April findet unser Dreck-Weg-Tag in Bettenfeld statt. Treffen ist um kurz vor 09:30 Uhr am Bauhof (Mosenbergstraße). \n\n\n\nPack mit an und hilf dabei\, unsere Gemeinde ein Stück sauberer zu machen!Gerne kannst du eigene Werkzeuge mitbringen\, alles Wichtige stellen wir aber auch vor Ort. \n\n\n\nAuch für die Kleinen ist das eine super Gelegenheit zu sehen\, wie wichtig Verantwortung und Engagement für den eigenen Wohnort sind. \n\n\n\nUnd keine Sorge: Niemand muss verhungern und verdursten \n\n\n\nKomm vorbei – wir freuen uns auf dich!
URL:https://bettenfeld.de/termin/dreck-weg-tag-in-bettenfeld-mach-mit/
ATTACH;FMTTYPE=image/jpeg:https://bettenfeld.de/wp-content/uploads/2024/04/dreckwegtag.jpg
END:VEVENT
BEGIN:VEVENT
DTSTART;TZID=Europe/Berlin:20260427T000000
DTEND;TZID=Europe/Berlin:20260427T235959
DTSTAMP:20260420T035609
CREATED:20260419T081743Z
LAST-MODIFIED:20260419T081746Z
UID:2120-1777248000-1777334399@bettenfeld.de
SUMMARY:Projektgruppe „Kirmes in Bettenfeld“ – Erstes Treffen
DESCRIPTION:Gestalte die Kirmes 2026 mit! Erstes Treffen am 27.04. um 19 Uhr im Feuerwehrhaus Bettenfeld. \n\n\n\nDer Förderverein Bettenfeld startet eine Projektgruppe für die Kirmes 2026 – und jede*r kann mitmachen! Ganz egal\, ob du im Verein bist oder nicht: Jede Idee und jede helfende Hand zählt. Vorkenntnisse brauchst du keine. Du kannst kleine Aufgaben übernehmen\, dich ausprobieren und Schritt für Schritt hineinwachsen. \n\n\n\nBesonders sind auch junge Bettenfelder eingeladen – wenn du Lust hast\, dich einzubringen\, bist du genau richtig. \n\n\n\nErstes Treffen: 27.04.2026\, 19 Uhr\, Feuerwehrhaus Bettenfeld. \n\n\n\nSchau einfach vorbei – wir freuen uns auf dich.
URL:https://bettenfeld.de/termin/projektgruppe-kirmes-in-bettenfeld-erstes-treffen/
ATTACH;FMTTYPE=image/jpeg:https://bettenfeld.de/wp-content/uploads/2024/11/foerderverein-bettenfeld.jpg
END:VEVENT
BEGIN:VEVENT
DTSTART;TZID=Europe/Berlin:20260430T000000
DTEND;TZID=Europe/Berlin:20260430T235959
DTSTAMP:20260420T035609
CREATED:20251230T110430Z
LAST-MODIFIED:20251230T130423Z
UID:1966-1777507200-1777593599@bettenfeld.de
SUMMARY:Hexennacht
DESCRIPTION:Unter dem Maibaum auf dem Schulhof wird in der Hexennacht am 30.04.26 in den Mai getanzt. Die Freiwillige Feuerwehr stellt den Maibaum auf\, anschließend wird am Feuer gefeiert\, geschwoft und getanzt. \n\n\n\nAber Vorsicht: In der Hexennacht ziehen die „Hexen“ durch den Ort und treiben ihren Schabernack. \n\n\n\nWer am 01.05. Gartenstühle\, Fußmatten\, Blumenkübel oder Ähnliches vermisst\, muss sich auf die Suche danach machen.
URL:https://bettenfeld.de/termin/hexennacht/
ATTACH;FMTTYPE=image/jpeg:https://bettenfeld.de/wp-content/uploads/2024/11/maibaum.jpg
END:VEVENT
END:VCALENDAR